BEGIN:VCALENDAR
VERSION:2.0
PRODID:-//Cafefa Canada - ECPv6.15.20//NONSGML v1.0//EN
CALSCALE:GREGORIAN
METHOD:PUBLISH
X-ORIGINAL-URL:https://cafefacanada.org
X-WR-CALDESC:Événements pour Cafefa Canada
REFRESH-INTERVAL;VALUE=DURATION:PT1H
X-Robots-Tag:noindex
X-PUBLISHED-TTL:PT1H
BEGIN:VTIMEZONE
TZID:America/Montreal
BEGIN:DAYLIGHT
TZOFFSETFROM:-0500
TZOFFSETTO:-0400
TZNAME:EDT
DTSTART:20250309T070000
END:DAYLIGHT
BEGIN:STANDARD
TZOFFSETFROM:-0400
TZOFFSETTO:-0500
TZNAME:EST
DTSTART:20251102T060000
END:STANDARD
BEGIN:DAYLIGHT
TZOFFSETFROM:-0500
TZOFFSETTO:-0400
TZNAME:EDT
DTSTART:20260308T070000
END:DAYLIGHT
BEGIN:STANDARD
TZOFFSETFROM:-0400
TZOFFSETTO:-0500
TZNAME:EST
DTSTART:20261101T060000
END:STANDARD
BEGIN:DAYLIGHT
TZOFFSETFROM:-0500
TZOFFSETTO:-0400
TZNAME:EDT
DTSTART:20270314T070000
END:DAYLIGHT
BEGIN:STANDARD
TZOFFSETFROM:-0400
TZOFFSETTO:-0500
TZNAME:EST
DTSTART:20271107T060000
END:STANDARD
END:VTIMEZONE
BEGIN:VEVENT
DTSTART;TZID=America/Montreal:20260513T110000
DTEND;TZID=America/Montreal:20260513T130000
DTSTAMP:20260423T153626
CREATED:20260129T220320Z
LAST-MODIFIED:20260129T220320Z
UID:993113-1778670000-1778677200@cafefacanada.org
SUMMARY:🌱 Atelier santé en présentiel
DESCRIPTION:Nutrition\, diabète et hypertension- Faire des repas sains \n\n\nPrévention et habitudes adaptées culturellement
URL:https://cafefacanada.org/event/%f0%9f%8c%b1-atelier-sante-en-presentiel/
LOCATION:cuisine communautaire\, Canada
CATEGORIES:Activités pour aînés
END:VEVENT
END:VCALENDAR