BEGIN:VCALENDAR
VERSION:2.0
PRODID:-//Cafefa Canada - ECPv6.15.20//NONSGML v1.0//EN
CALSCALE:GREGORIAN
METHOD:PUBLISH
X-ORIGINAL-URL:https://cafefacanada.org
X-WR-CALDESC:Événements pour Cafefa Canada
REFRESH-INTERVAL;VALUE=DURATION:PT1H
X-Robots-Tag:noindex
X-PUBLISHED-TTL:PT1H
BEGIN:VTIMEZONE
TZID:America/Montreal
BEGIN:DAYLIGHT
TZOFFSETFROM:-0500
TZOFFSETTO:-0400
TZNAME:EDT
DTSTART:20250309T070000
END:DAYLIGHT
BEGIN:STANDARD
TZOFFSETFROM:-0400
TZOFFSETTO:-0500
TZNAME:EST
DTSTART:20251102T060000
END:STANDARD
BEGIN:DAYLIGHT
TZOFFSETFROM:-0500
TZOFFSETTO:-0400
TZNAME:EDT
DTSTART:20260308T070000
END:DAYLIGHT
BEGIN:STANDARD
TZOFFSETFROM:-0400
TZOFFSETTO:-0500
TZNAME:EST
DTSTART:20261101T060000
END:STANDARD
BEGIN:DAYLIGHT
TZOFFSETFROM:-0500
TZOFFSETTO:-0400
TZNAME:EDT
DTSTART:20270314T070000
END:DAYLIGHT
BEGIN:STANDARD
TZOFFSETFROM:-0400
TZOFFSETTO:-0500
TZNAME:EST
DTSTART:20271107T060000
END:STANDARD
END:VTIMEZONE
BEGIN:VEVENT
DTSTART;TZID=America/Montreal:20260603T110000
DTEND;TZID=America/Montreal:20260603T130000
DTSTAMP:20260423T185422
CREATED:20260129T220445Z
LAST-MODIFIED:20260129T220445Z
UID:993116-1780484400-1780491600@cafefacanada.org
SUMMARY:💻 Atelier numérique 2
DESCRIPTION:Accéder aux services en ligne \n\n\nSanté\, gouvernement\, banques \n\n\nAide pratique pas à pas
URL:https://cafefacanada.org/event/%f0%9f%92%bb-atelier-numerique-2/
CATEGORIES:Activités pour aînés
END:VEVENT
BEGIN:VEVENT
DTSTART;TZID=America/Montreal:20260617T183000
DTEND;TZID=America/Montreal:20260617T193000
DTSTAMP:20260423T185422
CREATED:20260129T220726Z
LAST-MODIFIED:20260129T220726Z
UID:993118-1781721000-1781724600@cafefacanada.org
SUMMARY:🎶 Atelier virtuel  mémoire & culture
DESCRIPTION:Musiques\, contes et traditions africaines
URL:https://cafefacanada.org/event/%f0%9f%8e%b6-atelier-virtuel-memoire-culture/
LOCATION:Virtuel
CATEGORIES:Activités pour aînés
END:VEVENT
END:VCALENDAR